BEGIN:VCALENDAR
VERSION:2.0
PRODID:-//Healthtech Colombia - ECPv6.15.17.1//NONSGML v1.0//EN
CALSCALE:GREGORIAN
METHOD:PUBLISH
X-WR-CALNAME:Healthtech Colombia
X-ORIGINAL-URL:https://healthtechcolombia.co
X-WR-CALDESC:Eventos para Healthtech Colombia
REFRESH-INTERVAL;VALUE=DURATION:PT1H
X-Robots-Tag:noindex
X-PUBLISHED-TTL:PT1H
BEGIN:VTIMEZONE
TZID:America/Bogota
BEGIN:STANDARD
TZOFFSETFROM:-0500
TZOFFSETTO:-0500
TZNAME:-05
DTSTART:20220101T000000
END:STANDARD
END:VTIMEZONE
BEGIN:VEVENT
DTSTART;TZID=America/Bogota:20231101T080000
DTEND;TZID=America/Bogota:20231102T170000
DTSTAMP:20260421T102653
CREATED:20230816T023836Z
LAST-MODIFIED:20230816T024334Z
UID:2440-1698825600-1698944400@healthtechcolombia.co
SUMMARY:8va edición del Open Innovation and Investor Summit
DESCRIPTION:El 1 y 2 de noviembre en Bogotá se realizará la 8va edición del Open Innovation and Investor Summit – oisummit.co\, un evento único en Latam que conecta empresas\, emprendimientos\, inversionistas y universidades líderes para impulsar una cultura de innovación y encontrar soluciones disruptivas a desafíos de negocios. Así mismo\, se presentan las visiones de innovación de CEO´s de talla mundial\, los intereses de inversionistas corporativos (CVC´s) destacados y casos de éxito en innovación abierta que están cambiando el futuro de los negocios de la región.
URL:https://healthtechcolombia.co/event/8va-edicion-del-open-innovation-and-investor-summit/
ATTACH;FMTTYPE=image/png:https://healthtechcolombia.co/wp-content/uploads/2023/08/Captura-de-pantalla-2023-08-14-a-las-4.29.24-p.m.png
ORGANIZER;CN="CONNECT":MAILTO:oisummit@connectbogota.org
END:VEVENT
BEGIN:VEVENT
DTSTART;TZID=America/Bogota:20231108T080000
DTEND;TZID=America/Bogota:20231108T170000
DTSTAMP:20260421T102653
CREATED:20231017T164103Z
LAST-MODIFIED:20231024T221537Z
UID:2562-1699430400-1699462800@healthtechcolombia.co
SUMMARY:NETCARE CONNECT
DESCRIPTION:ESPACIO PARA CONECTAR TECNOLOGÍA Y SALUD \nEn Netcare Connect conocerás destacados especialistas y prestadores del sector médico con el propósito de debatir y compartir sobre las novedosas tendencias del sector. \nNetcare Connect trae para ti:\n\nNuevas conexiones\nActualizaciones del sector\nAliados y servicios para crecer tu negocio\nMarketing aplicados al sector de salud
URL:https://healthtechcolombia.co/event/netcare-connect/
LOCATION:Barranquilla\, Barranquilla\, Colombia
ATTACH;FMTTYPE=image/jpeg:https://healthtechcolombia.co/wp-content/uploads/2023/10/netcare-connect.jpg
END:VEVENT
BEGIN:VEVENT
DTSTART;TZID=America/Bogota:20231115T080000
DTEND;TZID=America/Bogota:20231117T170000
DTSTAMP:20260421T102653
CREATED:20231017T222101Z
LAST-MODIFIED:20231017T222101Z
UID:2569-1700035200-1700240400@healthtechcolombia.co
SUMMARY:Medellin Health City Summit
DESCRIPTION:El Cluster Medellin Health City busca promover procesos de integración y relacionamiento empresarial\, teniendo como referencia un modelo centrado en la persona con enfoque de salud\, con énfasis en servicios de excelencia clínica\, transformación digital y desarrollo de productos de base tecnológica y valor agregado de conocimiento e innovación. \nAsí nace la decimoquinta edición de este evento\, donde las empresas e instituciones que participan de la gestión de la estrategia  Cluster Medellin Health City\, organizan este espacio de encuentro académico y empresarial único en Colombia. \nPara el encuentro en esta “edición 15 años”\, se han diseñado espacios para asistir a conferencias\, paneles y conversaciones poderosas con los líderes y expertos en el campo de la salud y el bienestar.  Además\, es la oportunidad de presentar la oferta comercial de empresas relacionadas con los retos y oportunidades de la industria de la salud y el bienestar.
URL:https://healthtechcolombia.co/event/medellin-health-city-summit/
LOCATION:Medellín\, Colombia
ATTACH;FMTTYPE=image/jpeg:https://healthtechcolombia.co/wp-content/uploads/2023/10/medellin-health-city.jpg
END:VEVENT
BEGIN:VEVENT
DTSTART;TZID=America/Bogota:20231122T080000
DTEND;TZID=America/Bogota:20231122T123000
DTSTAMP:20260421T102653
CREATED:20231020T003803Z
LAST-MODIFIED:20231020T011858Z
UID:2578-1700640000-1700656200@healthtechcolombia.co
SUMMARY:Evento Salud Oral y calidad de vida de HUB iEX
DESCRIPTION:
URL:https://healthtechcolombia.co/event/evento-salud-oral-y-calidad-de-vida/
LOCATION:HUB iEX Universidad El Bosque\, Bogotá\, Colombia
ATTACH;FMTTYPE=image/png:https://healthtechcolombia.co/wp-content/uploads/2023/10/Post-Salud-oral.png
END:VEVENT
BEGIN:VEVENT
DTSTART;TZID=America/Bogota:20231123T080000
DTEND;TZID=America/Bogota:20231123T170000
DTSTAMP:20260421T102653
CREATED:20231122T200203Z
LAST-MODIFIED:20231122T200203Z
UID:2639-1700726400-1700758800@healthtechcolombia.co
SUMMARY:SIMPOSIO DE INNOVACIÓN EN EXCELENCIA CLÍNICA – QUALINN 2023
DESCRIPTION:#Qualinn un evento organizado por la Iniciativa clúster Excelencia Clínica de la Cámara de Comercio de Cali 🚀 Actualiza tus conocimientos\, experimenta el Experience Day con las últimas tecnologías 🔬 y conecta con líderes del sector en nuestra zona comercial. 🤝 \n¡Nos vemos este jueves 23 de noviembre en el Hotel Marriott en Cali para explorar nuevos enfoques de innovación en salud! 👩‍⚕️ \nAdemás\, dentro de las panelistas estará Lina Morales Mora hablando sobre ‘El Futuro de la Salud y la Toma de Decisiones a través de la Innovación en Tecnología’. ¡Inscríbete ya!
URL:https://healthtechcolombia.co/event/simposio-de-innovacion-en-excelencia-clinica-qualinn-2023/
ATTACH;FMTTYPE=image/png:https://healthtechcolombia.co/wp-content/uploads/2023/11/Qualinn-2023.png
ORGANIZER;CN="C%C3%A1mara de Comercio de Cali":MAILTO:capitalsummit@ccc.org.co
END:VEVENT
BEGIN:VEVENT
DTSTART;TZID=America/Bogota:20231129T073000
DTEND;TZID=America/Bogota:20231129T110000
DTSTAMP:20260421T102653
CREATED:20231204T175258Z
LAST-MODIFIED:20231204T175545Z
UID:2662-1701243000-1701255600@healthtechcolombia.co
SUMMARY:Cierre de año del Cluster Salud de la Cámara de Comercio de Bogotá
DESCRIPTION:Tenemos nuestro cierre de año del #ClusterSalud de la Cámara de Comercio de Bogotá. En este espacio presentaremos el balance de las iniciativas y programas que desarrollamos en el 2023 en las tres agendas del Programa de Competitividad en Salud. \nAdicionalmente\, tendremos un panel en donde contaremos con la participación del Dr. Alejandro Gómez\, Secretaría Distrital de Salud\, el Dr. Julio César Castellanos y un experto en salud digital. \nNos acompañarán también diferentes empresas de salud digital con una muestra comercial. \nMiércoles 29 de noviembre\nSede Chapinero: Calle 67 # 8 – 32\n7:30am – 11:00am
URL:https://healthtechcolombia.co/event/cierre-cluster-salud-ccb/
ATTACH;FMTTYPE=image/jpeg:https://healthtechcolombia.co/wp-content/uploads/2023/12/CLUSTER-DE-SALUD-CIERRE-1.jpg
END:VEVENT
BEGIN:VEVENT
DTSTART;TZID=America/Bogota:20231129T080000
DTEND;TZID=America/Bogota:20231201T170000
DTSTAMP:20260421T102653
CREATED:20231024T194602Z
LAST-MODIFIED:20231024T194602Z
UID:2590-1701244800-1701450000@healthtechcolombia.co
SUMMARY:Colombia 4.0
DESCRIPTION:Colombia 4.0 en su edición 2023 será el encuentro de los ecosistemas digitales del país\, donde se desarrollarán diferentes actividades como la agenda académica\, la agenda comercial y de inversión y las experiencias 4.0\, con el fin de articular los actores que componen estos ecosistemas. \nCon esta edición desde el Ministerio de Tecnologías de la Información y Comunicaciones se busca dinamizar los ecosistemas digitales\, validar los aportes de la Inteligencia Artificial y Revolucionar el Talento TI y la Economía Digital.
URL:https://healthtechcolombia.co/event/colombia-4-0/
LOCATION:Corferias\, Bogotá\, Cundinamarca.
ATTACH;FMTTYPE=image/jpeg:https://healthtechcolombia.co/wp-content/uploads/2023/10/colombia-40-scaled.jpg
END:VEVENT
BEGIN:VEVENT
DTSTART;TZID=America/Bogota:20231130T080000
DTEND;TZID=America/Bogota:20231130T130000
DTSTAMP:20260421T102653
CREATED:20231204T174832Z
LAST-MODIFIED:20231204T174832Z
UID:2660-1701331200-1701349200@healthtechcolombia.co
SUMMARY:7ta Cumbre de IA Colombia
DESCRIPTION:Gran conversación sobre la transformación del sistema de salud colombiano gracias a las tecnologías emergentes en el auditorio de la Fundación CTIC\, en Bogotá. \n 
URL:https://healthtechcolombia.co/event/7ta-cumbre-de-ia-colombia/
END:VEVENT
BEGIN:VEVENT
DTSTART;TZID=America/Bogota:20231130T080000
DTEND;TZID=America/Bogota:20231130T170000
DTSTAMP:20260421T102653
CREATED:20231114T194157Z
LAST-MODIFIED:20231114T202407Z
UID:2616-1701331200-1701363600@healthtechcolombia.co
SUMMARY:HIMSS Colombia Executive Summit
DESCRIPTION:HIMSS y sus partners tienen el agrado de invitar al cuarto encuentro HIMSS Colombia Executive Summit\, que se realizará en forma presencial\, el día Jueves 30 de Noviembre de 2023\, en el DoubleTree by Hilton Salitre AR de la ciudad de Bogotá. \nAgenda del día\nDurante el mismo\, tendrás la oportunidad de escuchar a los más importantes directivos de la Salud y Tecnología de Colombia (tanto del sector público como privado)\, quienes en las distintas sesiones realizarán un profundo análisis sobre la actualidad y el futuro de la Salud Digital en el país. \nEntre los temas a tratar se destacan: \n\nTransformación Digital en los sectores: Ministerios\, Gobernaciones\, Alcaldías\, IPS/Hospitales\, Asociaciones\, Academia\nOrganizaciones líderes del sector salud\, IPS Privadas\, Farma\nInteroperabilidad de la HCE de los nodos departamentales\nInteligencia Artificial\, Telemedicina y HCE a nivel Hospitalario y Ambulatorio\nFoco especial en Salud Laboral Digital\nStart Ups de Healthtech\nExperiencias Internacionales\nHIMSS Analytics: Modelos de madurez y certificación EMRAM\n\nEste evento dará créditos para el Certificado CPHIMS Internacional\, orientado a profesionales en Informática Médica.
URL:https://healthtechcolombia.co/event/himss-colombia-executive-summit/
LOCATION:DoubleTree by Hilton – Bogotá Salitre AR\, No. 22-99\, Ave. Carrera 60\, Bogotá\, Colombia
ATTACH;FMTTYPE=image/jpeg:https://healthtechcolombia.co/wp-content/uploads/2023/11/HIMMS.jpeg
END:VEVENT
END:VCALENDAR