BEGIN:VCALENDAR
VERSION:2.0
PRODID:-//Healthtech Colombia - ECPv6.15.17.1//NONSGML v1.0//EN
CALSCALE:GREGORIAN
METHOD:PUBLISH
X-WR-CALNAME:Healthtech Colombia
X-ORIGINAL-URL:https://healthtechcolombia.co
X-WR-CALDESC:Eventos para Healthtech Colombia
REFRESH-INTERVAL;VALUE=DURATION:PT1H
X-Robots-Tag:noindex
X-PUBLISHED-TTL:PT1H
BEGIN:VTIMEZONE
TZID:America/Bogota
BEGIN:STANDARD
TZOFFSETFROM:-0500
TZOFFSETTO:-0500
TZNAME:-05
DTSTART:20220101T000000
END:STANDARD
END:VTIMEZONE
BEGIN:VEVENT
DTSTART;TZID=America/Bogota:20230830T080000
DTEND;TZID=America/Bogota:20230901T170000
DTSTAMP:20260421T134426
CREATED:20230816T020154Z
LAST-MODIFIED:20230816T020154Z
UID:2429-1693382400-1693587600@healthtechcolombia.co
SUMMARY:Gofest 2023
DESCRIPTION:
URL:https://healthtechcolombia.co/event/gofest-2023/
ATTACH;FMTTYPE=image/png:https://healthtechcolombia.co/wp-content/uploads/2023/08/gofest.png
END:VEVENT
BEGIN:VEVENT
DTSTART;TZID=America/Bogota:20230906T080000
DTEND;TZID=America/Bogota:20230907T170000
DTSTAMP:20260421T134426
CREATED:20230904T214350Z
LAST-MODIFIED:20230904T215941Z
UID:2446-1693987200-1694106000@healthtechcolombia.co
SUMMARY:5° Simposio de experiencias y tendencias de cuarta revolución industrial en salud
DESCRIPTION:Queremos invitarlos a participar del 5° Simposio de experiencias y tendencias de cuarta revolución industrial en salud; este evento tiene objeto dar a conocer los proyectos orientados a dar solución a los problemas relacionados con la salud individual y colectiva\, así como generar espacios de interacción en donde se promuevan las alianzas\, avances multisectoriales y multidisciplinarios para la investigación\, innovación y tecnología en el área de la salud\, enfocado a la innovación y desarrollo sostenible. \nEste evento contará con ponentes de todos los sectores involucrados en el tema\, quienes\, a partir de sus experiencias académicas\, empresariales\, prácticas investigativas y de innovación\, compartirán sus saberes con los asistentes. Anexamos agenda. \nFecha: 6 y 7 de septiembre de 2023 \nHora: 8:00 am. a 5:00 pm. \nLugar: Cámara de Comercio de Bogotá – Sede Salitre Av. El dorado No 68D – 35 – Auditorio \nInscríbase Aquí \nEvento Gratuito – Presencial
URL:https://healthtechcolombia.co/event/5-simposio-de-experiencias-y-tendencias-de-cuarta-revolucion-industrial-en-salud/
ATTACH;FMTTYPE=image/jpeg:https://healthtechcolombia.co/wp-content/uploads/2023/09/5-SIMPOSIO.jpeg
END:VEVENT
BEGIN:VEVENT
DTSTART;TZID=America/Bogota:20230906T080000
DTEND;TZID=America/Bogota:20230907T180000
DTSTAMP:20260421T134426
CREATED:20230814T211553Z
LAST-MODIFIED:20230815T005120Z
UID:2421-1693987200-1694109600@healthtechcolombia.co
SUMMARY:Capital Summit 2023
DESCRIPTION:¡Prepárate para vivir la experiencia Capital Summit!\nCapital Summit 2023 es el epicentro de inversión de Latinoamérica donde convergen las comunidades y los dealmakers de emprendimiento para acercar oportunidades exponenciales de capital mediante experiencias de conexión. \nEn Capital Summit 2023 podrás:\n\n\n\nAmpliar tu red de contactos\, conectarte con personas y crear tu oportunidad mediante múltiples espacios de conexión.\nPreparar tu negocio para acceder a deuda o inversión.\nDescubrir tu talento\, depende de ti saber vender tu negocio.\nCerrar negocios de verdad.\nAdelantarte a las tendencias con conocimiento experto\, actualizado y práctico.\nEliminar las barreras\, los expertos están estarán ahí contigo.\nInspirarte con las historias y la experiencia de quienes lo han logrado en grande.\nConocer las mejores startups de Colombia.\n¡Y mucho más!\n\n\n\n¡Tú también puedes ser parte de este gran encuentro!
URL:https://healthtechcolombia.co/event/capital-summit-2023/
ATTACH;FMTTYPE=image/jpeg:https://healthtechcolombia.co/wp-content/uploads/2023/08/capital-summit.jpg
ORGANIZER;CN="C%C3%A1mara de Comercio de Cali":MAILTO:capitalsummit@ccc.org.co
END:VEVENT
BEGIN:VEVENT
DTSTART;TZID=America/Bogota:20230907T080000
DTEND;TZID=America/Bogota:20230907T170000
DTSTAMP:20260421T134426
CREATED:20230907T152543Z
LAST-MODIFIED:20230907T152543Z
UID:2474-1694073600-1694106000@healthtechcolombia.co
SUMMARY:Innovation Day con FiFarma y Afidro
DESCRIPTION:
URL:https://healthtechcolombia.co/event/innovation-day-con-fifarma-y-afidro/
END:VEVENT
BEGIN:VEVENT
DTSTART;TZID=America/Bogota:20230908T120000
DTEND;TZID=America/Bogota:20230908T130000
DTSTAMP:20260421T134426
CREATED:20230907T154047Z
LAST-MODIFIED:20230908T162228Z
UID:2476-1694174400-1694178000@healthtechcolombia.co
SUMMARY:Reporte de Innovación en Salud 2023
DESCRIPTION:🔊 Desde Healthtech Colombia los queremos invitar para que sean parte de la iniciativa PINNOS 2023 liderada por INNOS y el HUB iEX de la Universidad El Bosque en conjunto con AFIDRO. \nHaz parte del Reporte de Innovación en Salud 2023 y conecta con quienes te ayudan a fortalecer tu iniciativa este 8 de septiembre a las 12:00 p.m. por el canal de YouTube de HUB iEX https://www.youtube.com/watch?v=XR_SVIRQxYY
URL:https://healthtechcolombia.co/event/reporte-de-innovacion-en-salud-2023/
ATTACH;FMTTYPE=image/jpeg:https://healthtechcolombia.co/wp-content/uploads/2023/09/ecosistema-de-innovacion-1.jpeg
END:VEVENT
BEGIN:VEVENT
DTSTART;TZID=America/Bogota:20230914T080000
DTEND;TZID=America/Bogota:20230914T120000
DTSTAMP:20260421T134426
CREATED:20230914T223238Z
LAST-MODIFIED:20230914T223238Z
UID:2500-1694678400-1694692800@healthtechcolombia.co
SUMMARY:Innovación y Emprendimiento para el Cuidado hospitalario de enfermería de Hub iEX
DESCRIPTION:La salud en Colombia es un tema relevante y demanda la atención de la sociedad y de los responsables de las políticas públicas. Es por esto que nos complace anunciar el evento La innovación en el cuidado del paciente\, organizado por La Universidad El Bosque. \nEl objetivo de este espacio es reunir a expertos\, profesionales de la salud\, líderes gubernamentales y miembros de la comunidad con varios propósitos\, entre ellos está fomentar el diálogo\, compartir conocimientos y experiencias\, y proponer soluciones concretas en torno La importancia de la innovación en el cuidado del paciente y su impacto económico social y político.  \nFecha del evento: jueves\, 14 de septiembre del 2023 \nHora: 8 a.m. a 12 m. \nLugar: Hub iEX\, Universidad El Bosque\, Cra. 7b Bis #132-28\, Bogotá.  \nPara asistir e inscribirse al evento\, regístrese en el enlace https://forms.gle/zQWEc4W1o7TUnYBQ8 ¡No se pierda esta oportunidad de ser parte de un cambio significativo!
URL:https://healthtechcolombia.co/event/innovacion-y-emprendimiento-para-el-cuidado-hospitalario-de-enfermeria-de-hub-iex/
ATTACH;FMTTYPE=image/png:https://healthtechcolombia.co/wp-content/uploads/2023/09/cuidado-del-paciente.png
END:VEVENT
BEGIN:VEVENT
DTSTART;TZID=America/Bogota:20230914T110000
DTEND;TZID=America/Bogota:20230914T120000
DTSTAMP:20260421T134426
CREATED:20230907T161719Z
LAST-MODIFIED:20230908T165341Z
UID:2483-1694689200-1694692800@healthtechcolombia.co
SUMMARY:En Vivo en LinkedIn con Bukeala
DESCRIPTION:🌟 ¡Marca tu calendario! El jueves 14 de septiembre a las 11:00 a.m.\, estaremos En Vivo en LinkedIn hablando sobre la Gestión de poblaciones de Salud en el camino a la construcción de un modelo de salud preventivo con Pedro Martínez\, CEO de @Bukeala. Únete a esta conversación clave para el futuro de la salud. ¡Te esperamos!
URL:https://healthtechcolombia.co/event/en-vivo-en-linkedin-con-bukeala/
ATTACH;FMTTYPE=image/png:https://healthtechcolombia.co/wp-content/uploads/2023/09/LIVE-HEALTHTECH-BUKEALA.png
END:VEVENT
BEGIN:VEVENT
DTSTART;TZID=America/Bogota:20230918T080000
DTEND;TZID=America/Bogota:20230922T170000
DTSTAMP:20260421T134426
CREATED:20230816T022528Z
LAST-MODIFIED:20230816T022811Z
UID:2435-1695024000-1695402000@healthtechcolombia.co
SUMMARY:5ta edición Health Data Science Program Virtual
DESCRIPTION:5ta edición del Health Data Week: Congreso que tiene por objetivo que los hispanoparlantes conozcan los beneficios de la ciencia de datos en el sector salud. Se llevará a cabo del 18 al 22 Septiembre 2023 (Virtual). Más información: https://healthdataprogram.com/\n\n\nRegistro: Para los miembros del Healthtech Colombia interesados en participar en el evento\, pueden realizar su registro directo en la página web y/o aprovechar los descuentos por grupo. Más información: https://linktr.ee/HDSProgram Fecha límite de registro: 20 Agosto 2023.\n\n5ta edición del Health Data Science Program: Diplomado orientado a formar líderes con habilidades y herramientas que faciliten obtener\, manejar\, almacenar e interpretar datos generados desde el sector salud; buscando enriquecer las estrategias y la toma de decisiones para solidificar el uso de ciencia de datos en las organizaciones de salud. Inicio de clases: 04 Septiembre 2023. Más información: https://linktr.ee/HDSProgram \n\nRegistro: Para los miembros del Healthtech Colombia interesados en participar en el diplomado\, pueden realizar su registro directo en la página web. Es importante que mencionen que son miembros del Healthtech Colombia. Más información: https://linktr.ee/HDSProgram Fecha límite de registro: 30 Agosto 2023.
URL:https://healthtechcolombia.co/event/5ta-edicion-health-data-week-5ta-edicion-health-data-science-program-virtual/
ATTACH;FMTTYPE=image/png:https://healthtechcolombia.co/wp-content/uploads/2023/08/5ta-edicion-Health-Data-Week-Portada-1.png
END:VEVENT
BEGIN:VEVENT
DTSTART;TZID=America/Bogota:20230920T080000
DTEND;TZID=America/Bogota:20230922T170000
DTSTAMP:20260421T134426
CREATED:20230914T224402Z
LAST-MODIFIED:20230914T224617Z
UID:2506-1695196800-1695402000@healthtechcolombia.co
SUMMARY:32° Foro Internacional de la OES
DESCRIPTION:El 32° Foro Internacional OES 2023\, del 20 al 22 de septiembre en el Hotel Hilton – Cartagena\, tendrá como objetivo principal entregar estrategias encaminadas a una excelencia clínica\, hacia la adopción de la atención centrada en la persona\, el Liderazgo e innovación para continuar fomentando la transformación de la gestión y la calidad de las organizaciones y los profesionales de la salud. \n Contamos con una tarifa de inscripción especial para miembros de Healthtech. 
URL:https://healthtechcolombia.co/event/32-foro-internacional-de-la-oes/
END:VEVENT
BEGIN:VEVENT
DTSTART;TZID=America/Bogota:20230926T083000
DTEND;TZID=America/Bogota:20230926T103000
DTSTAMP:20260421T134426
CREATED:20230912T221934Z
LAST-MODIFIED:20230912T221934Z
UID:2492-1695717000-1695724200@healthtechcolombia.co
SUMMARY:Meet & Challenge de Salud con Fedesoft
DESCRIPTION:¡Se acerca el Meet & Challenge de Salud! 💡🏢 \nUna iniciativa de #Fedesoft en alianza con #HealthTechColombia\, que busca plantear\, desarrollar y concretar acciones para mejorar el sistema salud colombiano apoyado en los diferentes desarrollos tecnológicos. \n¡Cupos Limitados! ¡No te quedes sin asistir a la construcción de esta ruta de trabajo! ➡️ Si eres miembro exclusivo de Healthtech escríbenos para compartirte el formulario.
URL:https://healthtechcolombia.co/event/meet-challenge-de-salud-con-fedesoft/
ATTACH;FMTTYPE=image/png:https://healthtechcolombia.co/wp-content/uploads/2023/09/Meet-And-Challenge-2023_Reunion-SEP-26-V3-1.png
END:VEVENT
BEGIN:VEVENT
DTSTART;TZID=America/Bogota:20230927T080000
DTEND;TZID=America/Bogota:20230927T120000
DTSTAMP:20260421T134426
CREATED:20230914T222900Z
LAST-MODIFIED:20230914T222900Z
UID:2497-1695801600-1695816000@healthtechcolombia.co
SUMMARY:Pensando en innovar en el cuidado de la salud mental de Hub iEX
DESCRIPTION:La salud mental en Colombia es un tema relevante y demanda la atención de la sociedad y de los responsables de las políticas públicas. \nEs por esto que nos complace anunciar el evento Pensando en innovar el cuidado de la salud mental\, organizado por La Universidad El Bosque y la Secretaría de Desarrollo Económico de Bogotá. \nEl objetivo de este espacio es reunir a expertos\, profesionales de la salud\, líderes gubernamentales y miembros de la comunidad con varios propósitos\, entre ellos está fomentar el diálogo\, compartir conocimientos y experiencias\, y proponer soluciones concretas en torno a la necesidad de priorizar la prevención de enfermedades que afectan la salud mental y disminuir el impacto social que ellas\nrepresentan. \nFecha del evento: jueves\, 27 de septiembre del 2023\nHora: 8 a.m. a 12 m.\nLugar: Hub iEX\, Universidad El Bosque\, Cra. 7b Bis #132-28\, Bogotá. \nPara asistir e inscribirse al evento\, https://forms.gle/Vyq72RJWBpciAgps5 ¡No se pierda esta oportunidad de ser parte de un cambio significativo en la prevención\, diagnóstico y tratamiento de la salud mental en Colombia!
URL:https://healthtechcolombia.co/event/pensando-en-innovar-en-el-cuidado-de-la-salud-mental-de-hub-iex/
ATTACH;FMTTYPE=image/png:https://healthtechcolombia.co/wp-content/uploads/2023/09/Pensando-en-innovar-en-el-cuidado-de-la-salud-mental-de-Hub-iEX.png
END:VEVENT
BEGIN:VEVENT
DTSTART;TZID=America/Bogota:20230928T170000
DTEND;TZID=America/Bogota:20230928T180000
DTSTAMP:20260421T134426
CREATED:20230912T214109Z
LAST-MODIFIED:20230912T214109Z
UID:2488-1695920400-1695924000@healthtechcolombia.co
SUMMARY:Virtual Meetup: Descubre el potencial de Microsoft para impulsar tu Startup
DESCRIPTION:En este encuentro\, te sumergirás en el mundo de posibilidades que ofrece la nube y los beneficios de trabajar con TD SYNNEX\, distribuidor #1 de Azure. \nNos acompañará Hugo Melo\, Business Development Manager y Arquitecto de soluciones Microsoft Azure. \nContenido: \n\nBeneficios y ventajas de trabajar con Microsoft\n Acompañamiento personalizado TD SYNNEX\nApoyo técnico y comercial\nDiseño y optimización de infraestructura\nPrograma de aceleración EDGE para Startups\n\n¡Tendremos espectaculares premios durante la sesión!
URL:https://healthtechcolombia.co/event/virtual-meetup-descubre-el-potencial-de-microsoft-para-impulsar-tu-startup/
ATTACH;FMTTYPE=image/png:https://healthtechcolombia.co/wp-content/uploads/2023/09/Meetup4.png
END:VEVENT
END:VCALENDAR