BEGIN:VCALENDAR
VERSION:2.0
PRODID:-//Healthtech Colombia - ECPv6.15.17.1//NONSGML v1.0//EN
CALSCALE:GREGORIAN
METHOD:PUBLISH
X-ORIGINAL-URL:https://healthtechcolombia.co
X-WR-CALDESC:Eventos para Healthtech Colombia
REFRESH-INTERVAL;VALUE=DURATION:PT1H
X-Robots-Tag:noindex
X-PUBLISHED-TTL:PT1H
BEGIN:VTIMEZONE
TZID:America/Bogota
BEGIN:STANDARD
TZOFFSETFROM:-0500
TZOFFSETTO:-0500
TZNAME:-05
DTSTART:20220101T000000
END:STANDARD
END:VTIMEZONE
BEGIN:VEVENT
DTSTART;TZID=America/Bogota:20230810T110000
DTEND;TZID=America/Bogota:20230810T120000
DTSTAMP:20260421T153021
CREATED:20230810T215428Z
LAST-MODIFIED:20230810T215746Z
UID:2413-1691665200-1691668800@healthtechcolombia.co
SUMMARY:LIVE con Camilo Naranjo\, CEO de Saludtools
DESCRIPTION:
URL:https://healthtechcolombia.co/event/live-con-camilo-naranjo-ceo-de-saludtools/
ATTACH;FMTTYPE=image/png:https://healthtechcolombia.co/wp-content/uploads/2023/08/LIVE-HEALTHTECH-1-1.png
END:VEVENT
BEGIN:VEVENT
DTSTART;TZID=America/Bogota:20230816T080000
DTEND;TZID=America/Bogota:20230818T170000
DTSTAMP:20260421T153021
CREATED:20230810T222247Z
LAST-MODIFIED:20230810T222247Z
UID:2417-1692172800-1692378000@healthtechcolombia.co
SUMMARY:Hackathon FSFB 2023
DESCRIPTION:
URL:https://healthtechcolombia.co/event/hackathon-fsfb-2023/
ATTACH;FMTTYPE=image/jpeg:https://healthtechcolombia.co/wp-content/uploads/2023/08/hackathon.jpg
END:VEVENT
BEGIN:VEVENT
DTSTART;TZID=America/Bogota:20230816T130000
DTEND;TZID=America/Bogota:20230816T140000
DTSTAMP:20260421T153021
CREATED:20230815T170516Z
LAST-MODIFIED:20230815T170843Z
UID:2425-1692190800-1692194400@healthtechcolombia.co
SUMMARY:Encuentro Healthtech en el Eje Cafetero
DESCRIPTION:🚀 ¡Atención a todas las Healthtech del Eje Cafetero! 🚀 \nComo muchos lo han pedido\, estamos trabajando para acercarnos más a todas las regiones de Colombia\, por eso hemos organizado este espacio especialmente para Healthtech Colombia en el Eje Cafetero. Acá podremos conectarnos con otros actores del ecosistema\, intercambiaremos ideas y aprenderemos de expertos destacados en el sector en el marco del Hackathon2023\, con la Fundación Santa Fe de Bogotá. \n🎉 Reserva tu espacio lo antes posible\, ya que los cupos son limitados ⬇ https://forms.gle/d1KU9AmoLeWrNnAu6 \nNo pierdas esta oportunidad única de fortalecimiento y reconocimiento para tu empresa. ¡Nos vemos en Pereira!
URL:https://healthtechcolombia.co/event/encuentro-healthtech-en-el-eje-cafetero/
ATTACH;FMTTYPE=image/jpeg:https://healthtechcolombia.co/wp-content/uploads/2023/08/Encuentro-eje-cafetero.jpeg
END:VEVENT
BEGIN:VEVENT
DTSTART;TZID=America/Bogota:20230823T080000
DTEND;TZID=America/Bogota:20230824T170000
DTSTAMP:20260421T153021
CREATED:20230816T021913Z
LAST-MODIFIED:20230816T022226Z
UID:2432-1692777600-1692896400@healthtechcolombia.co
SUMMARY:5ta edición Health Data Week + 5ta edición Health Data Science Program
DESCRIPTION:5ta edición del Health Data Week: Congreso que tiene por objetivo que los hispanoparlantes conozcan los beneficios de la ciencia de datos en el sector salud. Se llevará a cabo el 23 y 24 Agosto 2023 en Monterrey\, México (Presencial) y del 18 al 22 Septiembre 2023 (Virtual). Más información: https://healthdataprogram.com/\n\n\nRegistro: Para los miembros del Healthtech Colombia interesados en participar en el evento\, pueden realizar su registro directo en la página web y/o aprovechar los descuentos por grupo. Más información: https://linktr.ee/HDSProgram Fecha límite de registro: 20 Agosto 2023.\n\n5ta edición del Health Data Science Program: Diplomado orientado a formar líderes con habilidades y herramientas que faciliten obtener\, manejar\, almacenar e interpretar datos generados desde el sector salud; buscando enriquecer las estrategias y la toma de decisiones para solidificar el uso de ciencia de datos en las organizaciones de salud. Inicio de clases: 04 Septiembre 2023. Más información: https://linktr.ee/HDSProgram \n\nRegistro: Para los miembros del Healthtech Colombia interesados en participar en el diplomado\, pueden realizar su registro directo en la página web. Es importante que mencionen que son miembros del Healthtech Colombia. Más información: https://linktr.ee/HDSProgram Fecha límite de registro: 30 Agosto 2023.
URL:https://healthtechcolombia.co/event/5ta-edicion-health-data-week-5ta-edicion-health-data-science-program/
ATTACH;FMTTYPE=image/png:https://healthtechcolombia.co/wp-content/uploads/2023/08/5ta-edicion-Health-Data-Week-Portada-1.png
END:VEVENT
BEGIN:VEVENT
DTSTART;TZID=America/Bogota:20230830T080000
DTEND;TZID=America/Bogota:20230901T170000
DTSTAMP:20260421T153021
CREATED:20230816T020154Z
LAST-MODIFIED:20230816T020154Z
UID:2429-1693382400-1693587600@healthtechcolombia.co
SUMMARY:Gofest 2023
DESCRIPTION:
URL:https://healthtechcolombia.co/event/gofest-2023/
ATTACH;FMTTYPE=image/png:https://healthtechcolombia.co/wp-content/uploads/2023/08/gofest.png
END:VEVENT
END:VCALENDAR