BEGIN:VCALENDAR
VERSION:2.0
PRODID:-//Healthtech Colombia - ECPv6.15.17.1//NONSGML v1.0//EN
CALSCALE:GREGORIAN
METHOD:PUBLISH
X-WR-CALNAME:Healthtech Colombia
X-ORIGINAL-URL:https://healthtechcolombia.co
X-WR-CALDESC:Eventos para Healthtech Colombia
REFRESH-INTERVAL;VALUE=DURATION:PT1H
X-Robots-Tag:noindex
X-PUBLISHED-TTL:PT1H
BEGIN:VTIMEZONE
TZID:America/Bogota
BEGIN:STANDARD
TZOFFSETFROM:-0500
TZOFFSETTO:-0500
TZNAME:-05
DTSTART:20220101T000000
END:STANDARD
END:VTIMEZONE
BEGIN:VEVENT
DTSTART;TZID=America/Bogota:20231206T110000
DTEND;TZID=America/Bogota:20231206T120000
DTSTAMP:20260421T100054
CREATED:20231121T214136Z
LAST-MODIFIED:20231204T213424Z
UID:2623-1701860400-1701864000@healthtechcolombia.co
SUMMARY:LIVE: Sostenibilidad de los sistemas de Salud
DESCRIPTION:¡Únete a nosotros a nuestro próximo LIVE en LinkedIn! Esta vez hablaremos con Juan David Escobar Head CO\, RD y Andina de OSIGU donde hablaremos de la sostenibilidad de los sistemas de Salud. \nNo te pierdas esta oportunidad de sumergirte en el mundo de la tecnología y la salud con un líder en la industria. Acompáñanos y haz tus preguntas en vivo. \nFecha: Miércoles 6 de diciembre\nHora: 11:00 a.m.\nLugar: LinkedIn Healthtech Colombia
URL:https://healthtechcolombia.co/event/live-sostenibilidad-de-los-sistemas-de-salud/
ATTACH;FMTTYPE=image/png:https://healthtechcolombia.co/wp-content/uploads/2023/11/LIVE-HEALTHTECH-6.png
END:VEVENT
BEGIN:VEVENT
DTSTART;TZID=America/Bogota:20231206T170000
DTEND;TZID=America/Bogota:20231206T190000
DTSTAMP:20260421T100054
CREATED:20231204T162609Z
LAST-MODIFIED:20231204T162609Z
UID:2653-1701882000-1701889200@healthtechcolombia.co
SUMMARY:Open Challenge RDU
DESCRIPTION:🚀 ¡Participa en el RDU OPEN CHALLENGE de AstraZeneca Latam! 🌍✨ \n📅 Fecha: 6 de Diciembre\n⏰ Hora: 5:00 pm\n📍 Modalidad: Presencial Bogotá y Virtual Zoom \n¡Estás invitado al emocionante lanzamiento de nuestro reto de innovación abierta enfocado en enfermedades raras! 🌟 \nEste evento promete ser un punto de encuentro para mentes innovadoras que buscan hacer una diferencia en el campo de la salud. 💡 \n¡Únete a nosotros para explorar soluciones innovadoras y contribuir a mejorar la calidad de vida de quienes más lo necesitan! 🌈 \n¡Si eres miembro activo\, escríbeme a este link para enviarte la invitación de registro! 🚀👩‍🔬👨‍💻 https://wa.link/ulijgc
URL:https://healthtechcolombia.co/event/open-challenge-rdu/
ATTACH;FMTTYPE=image/png:https://healthtechcolombia.co/wp-content/uploads/2023/12/innovacion-abierta-astrazeneca.png
END:VEVENT
END:VCALENDAR