BEGIN:VCALENDAR
VERSION:2.0
PRODID:-//Healthtech Colombia - ECPv6.15.17.1//NONSGML v1.0//EN
CALSCALE:GREGORIAN
METHOD:PUBLISH
X-ORIGINAL-URL:https://healthtechcolombia.co
X-WR-CALDESC:Eventos para Healthtech Colombia
REFRESH-INTERVAL;VALUE=DURATION:PT1H
X-Robots-Tag:noindex
X-PUBLISHED-TTL:PT1H
BEGIN:VTIMEZONE
TZID:America/Bogota
BEGIN:STANDARD
TZOFFSETFROM:-0500
TZOFFSETTO:-0500
TZNAME:-05
DTSTART:20220101T000000
END:STANDARD
END:VTIMEZONE
BEGIN:VEVENT
DTSTART;TZID=America/Bogota:20231205T090000
DTEND;TZID=America/Bogota:20231205T103000
DTSTAMP:20260421T100236
CREATED:20231204T160714Z
LAST-MODIFIED:20231204T160714Z
UID:2649-1701766800-1701772200@healthtechcolombia.co
SUMMARY:Reverse Pitch HealthTech Connect
DESCRIPTION:El Centro de innovación Andino AstraZeneca te invita al Reverse Pitch HealthTech Connect: \nInversión e Innovación para impactar en la vida del paciente. \nUn evento para facilitar la interacción entre startups HealthTech peruanas y ecuatorianas y destacados fondos de inversión\, brindando la oportunidad de conocer de primera mano los criterios de inversión de cada uno de los fondos y las posibilidades que ofrecen\, con el fin de fomentar la inversión y la colaboración en la industria de la tecnología de la salud para cada día generar mejores soluciones para millones de pacientes en toda la región andina. \nMartes\, 5 de diciembre 9:00 AM – 10:30 AM \nRegístrate a través del siguiente enlace: wa.link/ped0bq \n¡Para conocer más sobre el centro de innovación\, visita andinohih.com! \n¿Quieres contactar con el centro de innovación? \nEnvía un correo a innovacionandino@astrazeneca.com
URL:https://healthtechcolombia.co/event/reverse-pitch-healthtech-connect/
ATTACH;FMTTYPE=image/png:https://healthtechcolombia.co/wp-content/uploads/2023/12/Reverse-Pitch-1.png
END:VEVENT
END:VCALENDAR