BEGIN:VCALENDAR
VERSION:2.0
PRODID:-//Healthtech Colombia - ECPv6.15.17.1//NONSGML v1.0//EN
CALSCALE:GREGORIAN
METHOD:PUBLISH
X-ORIGINAL-URL:https://healthtechcolombia.co
X-WR-CALDESC:Eventos para Healthtech Colombia
REFRESH-INTERVAL;VALUE=DURATION:PT1H
X-Robots-Tag:noindex
X-PUBLISHED-TTL:PT1H
BEGIN:VTIMEZONE
TZID:America/Bogota
BEGIN:STANDARD
TZOFFSETFROM:-0500
TZOFFSETTO:-0500
TZNAME:-05
DTSTART:20220101T000000
END:STANDARD
END:VTIMEZONE
BEGIN:VEVENT
DTSTART;TZID=America/Bogota:20231012T080000
DTEND;TZID=America/Bogota:20231012T123000
DTSTAMP:20260421T134445
CREATED:20231020T005236Z
LAST-MODIFIED:20231020T005236Z
UID:2582-1697097600-1697113800@healthtechcolombia.co
SUMMARY:Foro: Una Mirada a la Salud Visual en Colombia
DESCRIPTION:La salud visual en Colombia es un tema relevante y demanda la atención de la sociedad y de los responsables de las políticas públicas. Es por esto que nos complace anunciar el evento “Foro: Una Mirada a la Salud Visual en Colombia”\, organizado por Cambio y la Universidad El Bosque\, con el apoyo de Productos Roche S.A. \nEl objetivo de este foro es sensibilizar\, promover la prevención y el entendimiento del impacto y la carga que representan las patologías relacionadas a la salud visual en nuestra sociedad. Reuniremos a expertos\, profesionales de la salud\, líderes gubernamentales y miembros de la comunidad para fomentar el diálogo\, compartir conocimientos y experiencias\, y proponer soluciones concretas para enfrentar este desafío. \nFecha del evento: jueves\, 12 de octubre de 2023\nHora: 8 a.m. a 12 m.\nLugar: Hub iEX\, Universidad El Bosque\, Cra. 7b Bis #132-28\, Bogotá. \nPara asistir e inscribirse al evento\, haga clic en el enlace  de registro.  ¡No se pierda esta oportunidad de ser parte de un cambio significativo en la prevención\, diagnóstico y tratamiento de la ceguera y la discapacidad visual en Colombia!  \n 
URL:https://healthtechcolombia.co/event/foro-una-mirada-a-la-salud-visual-en-colombia/
LOCATION:HUB iEX Universidad El Bosque\, Bogotá\, Colombia
ATTACH;FMTTYPE=image/jpeg:https://healthtechcolombia.co/wp-content/uploads/2023/10/WhatsApp-Image-2023-08-29-at-11.48.15-AM-1.jpeg
END:VEVENT
BEGIN:VEVENT
DTSTART;TZID=America/Bogota:20231012T110000
DTEND;TZID=America/Bogota:20231012T120000
DTSTAMP:20260421T134445
CREATED:20231017T160400Z
LAST-MODIFIED:20231017T160400Z
UID:2552-1697108400-1697112000@healthtechcolombia.co
SUMMARY:Live: ¿Cómo lograr una base sólida para la innovación en Salud?
DESCRIPTION:¡Únete a nosotros a nuestro próximo LIVE en LinkedIn! Esta vez hablaremos con Andrés Hoyos y Germán Cardona de iMedical donde exploraremos su esencia y enfoque para lograr una base sólida en el sector de la salud. \nNo te pierdas esta oportunidad de sumergirte en el mundo de la tecnología y la salud con un líder en la industria. Acompáñanos y haz tus preguntas en vivo. \nFecha: 12 de octubre\nHora: 11:00 a.m.\nLugar: LinkedIn Healthtech Colombia
URL:https://healthtechcolombia.co/event/live-como-lograr-una-base-solida-para-la-innovacion-en-salud/
ATTACH;FMTTYPE=image/png:https://healthtechcolombia.co/wp-content/uploads/2023/10/LIVE-HEALTHTECH-con-imedical.png
END:VEVENT
END:VCALENDAR