BEGIN:VCALENDAR
VERSION:2.0
PRODID:-//Healthtech Colombia - ECPv6.15.17.1//NONSGML v1.0//EN
CALSCALE:GREGORIAN
METHOD:PUBLISH
X-WR-CALNAME:Healthtech Colombia
X-ORIGINAL-URL:https://healthtechcolombia.co
X-WR-CALDESC:Eventos para Healthtech Colombia
REFRESH-INTERVAL;VALUE=DURATION:PT1H
X-Robots-Tag:noindex
X-PUBLISHED-TTL:PT1H
BEGIN:VTIMEZONE
TZID:America/Bogota
BEGIN:STANDARD
TZOFFSETFROM:-0500
TZOFFSETTO:-0500
TZNAME:-05
DTSTART:20220101T000000
END:STANDARD
END:VTIMEZONE
BEGIN:VEVENT
DTSTART;TZID=America/Bogota:20230918T080000
DTEND;TZID=America/Bogota:20230922T170000
DTSTAMP:20260421T152225
CREATED:20230816T022528Z
LAST-MODIFIED:20230816T022811Z
UID:2435-1695024000-1695402000@healthtechcolombia.co
SUMMARY:5ta edición Health Data Science Program Virtual
DESCRIPTION:5ta edición del Health Data Week: Congreso que tiene por objetivo que los hispanoparlantes conozcan los beneficios de la ciencia de datos en el sector salud. Se llevará a cabo del 18 al 22 Septiembre 2023 (Virtual). Más información: https://healthdataprogram.com/\n\n\nRegistro: Para los miembros del Healthtech Colombia interesados en participar en el evento\, pueden realizar su registro directo en la página web y/o aprovechar los descuentos por grupo. Más información: https://linktr.ee/HDSProgram Fecha límite de registro: 20 Agosto 2023.\n\n5ta edición del Health Data Science Program: Diplomado orientado a formar líderes con habilidades y herramientas que faciliten obtener\, manejar\, almacenar e interpretar datos generados desde el sector salud; buscando enriquecer las estrategias y la toma de decisiones para solidificar el uso de ciencia de datos en las organizaciones de salud. Inicio de clases: 04 Septiembre 2023. Más información: https://linktr.ee/HDSProgram \n\nRegistro: Para los miembros del Healthtech Colombia interesados en participar en el diplomado\, pueden realizar su registro directo en la página web. Es importante que mencionen que son miembros del Healthtech Colombia. Más información: https://linktr.ee/HDSProgram Fecha límite de registro: 30 Agosto 2023.
URL:https://healthtechcolombia.co/event/5ta-edicion-health-data-week-5ta-edicion-health-data-science-program-virtual/
ATTACH;FMTTYPE=image/png:https://healthtechcolombia.co/wp-content/uploads/2023/08/5ta-edicion-Health-Data-Week-Portada-1.png
END:VEVENT
BEGIN:VEVENT
DTSTART;TZID=America/Bogota:20230920T080000
DTEND;TZID=America/Bogota:20230922T170000
DTSTAMP:20260421T152225
CREATED:20230914T224402Z
LAST-MODIFIED:20230914T224617Z
UID:2506-1695196800-1695402000@healthtechcolombia.co
SUMMARY:32° Foro Internacional de la OES
DESCRIPTION:El 32° Foro Internacional OES 2023\, del 20 al 22 de septiembre en el Hotel Hilton – Cartagena\, tendrá como objetivo principal entregar estrategias encaminadas a una excelencia clínica\, hacia la adopción de la atención centrada en la persona\, el Liderazgo e innovación para continuar fomentando la transformación de la gestión y la calidad de las organizaciones y los profesionales de la salud. \n Contamos con una tarifa de inscripción especial para miembros de Healthtech. 
URL:https://healthtechcolombia.co/event/32-foro-internacional-de-la-oes/
END:VEVENT
END:VCALENDAR