BEGIN:VCALENDAR
VERSION:2.0
PRODID:-//Healthtech Colombia - ECPv6.15.17.1//NONSGML v1.0//EN
CALSCALE:GREGORIAN
METHOD:PUBLISH
X-ORIGINAL-URL:https://healthtechcolombia.co
X-WR-CALDESC:Eventos para Healthtech Colombia
REFRESH-INTERVAL;VALUE=DURATION:PT1H
X-Robots-Tag:noindex
X-PUBLISHED-TTL:PT1H
BEGIN:VTIMEZONE
TZID:America/Bogota
BEGIN:STANDARD
TZOFFSETFROM:-0500
TZOFFSETTO:-0500
TZNAME:-05
DTSTART:20220101T000000
END:STANDARD
END:VTIMEZONE
BEGIN:VEVENT
DTSTART;TZID=America/Bogota:20230914T080000
DTEND;TZID=America/Bogota:20230914T120000
DTSTAMP:20260421T153027
CREATED:20230914T223238Z
LAST-MODIFIED:20230914T223238Z
UID:2500-1694678400-1694692800@healthtechcolombia.co
SUMMARY:Innovación y Emprendimiento para el Cuidado hospitalario de enfermería de Hub iEX
DESCRIPTION:La salud en Colombia es un tema relevante y demanda la atención de la sociedad y de los responsables de las políticas públicas. Es por esto que nos complace anunciar el evento La innovación en el cuidado del paciente\, organizado por La Universidad El Bosque. \nEl objetivo de este espacio es reunir a expertos\, profesionales de la salud\, líderes gubernamentales y miembros de la comunidad con varios propósitos\, entre ellos está fomentar el diálogo\, compartir conocimientos y experiencias\, y proponer soluciones concretas en torno La importancia de la innovación en el cuidado del paciente y su impacto económico social y político.  \nFecha del evento: jueves\, 14 de septiembre del 2023 \nHora: 8 a.m. a 12 m. \nLugar: Hub iEX\, Universidad El Bosque\, Cra. 7b Bis #132-28\, Bogotá.  \nPara asistir e inscribirse al evento\, regístrese en el enlace https://forms.gle/zQWEc4W1o7TUnYBQ8 ¡No se pierda esta oportunidad de ser parte de un cambio significativo!
URL:https://healthtechcolombia.co/event/innovacion-y-emprendimiento-para-el-cuidado-hospitalario-de-enfermeria-de-hub-iex/
ATTACH;FMTTYPE=image/png:https://healthtechcolombia.co/wp-content/uploads/2023/09/cuidado-del-paciente.png
END:VEVENT
BEGIN:VEVENT
DTSTART;TZID=America/Bogota:20230914T110000
DTEND;TZID=America/Bogota:20230914T120000
DTSTAMP:20260421T153027
CREATED:20230907T161719Z
LAST-MODIFIED:20230908T165341Z
UID:2483-1694689200-1694692800@healthtechcolombia.co
SUMMARY:En Vivo en LinkedIn con Bukeala
DESCRIPTION:🌟 ¡Marca tu calendario! El jueves 14 de septiembre a las 11:00 a.m.\, estaremos En Vivo en LinkedIn hablando sobre la Gestión de poblaciones de Salud en el camino a la construcción de un modelo de salud preventivo con Pedro Martínez\, CEO de @Bukeala. Únete a esta conversación clave para el futuro de la salud. ¡Te esperamos!
URL:https://healthtechcolombia.co/event/en-vivo-en-linkedin-con-bukeala/
ATTACH;FMTTYPE=image/png:https://healthtechcolombia.co/wp-content/uploads/2023/09/LIVE-HEALTHTECH-BUKEALA.png
END:VEVENT
END:VCALENDAR