BEGIN:VCALENDAR
VERSION:2.0
PRODID:-//Healthtech Colombia - ECPv6.15.17.1//NONSGML v1.0//EN
CALSCALE:GREGORIAN
METHOD:PUBLISH
X-WR-CALNAME:Healthtech Colombia
X-ORIGINAL-URL:https://healthtechcolombia.co
X-WR-CALDESC:Eventos para Healthtech Colombia
REFRESH-INTERVAL;VALUE=DURATION:PT1H
X-Robots-Tag:noindex
X-PUBLISHED-TTL:PT1H
BEGIN:VTIMEZONE
TZID:America/Bogota
BEGIN:STANDARD
TZOFFSETFROM:-0500
TZOFFSETTO:-0500
TZNAME:-05
DTSTART:20220101T000000
END:STANDARD
END:VTIMEZONE
BEGIN:VEVENT
DTSTART;TZID=America/Bogota:20230908T120000
DTEND;TZID=America/Bogota:20230908T130000
DTSTAMP:20260421T152916
CREATED:20230907T154047Z
LAST-MODIFIED:20230908T162228Z
UID:2476-1694174400-1694178000@healthtechcolombia.co
SUMMARY:Reporte de Innovación en Salud 2023
DESCRIPTION:🔊 Desde Healthtech Colombia los queremos invitar para que sean parte de la iniciativa PINNOS 2023 liderada por INNOS y el HUB iEX de la Universidad El Bosque en conjunto con AFIDRO. \nHaz parte del Reporte de Innovación en Salud 2023 y conecta con quienes te ayudan a fortalecer tu iniciativa este 8 de septiembre a las 12:00 p.m. por el canal de YouTube de HUB iEX https://www.youtube.com/watch?v=XR_SVIRQxYY
URL:https://healthtechcolombia.co/event/reporte-de-innovacion-en-salud-2023/
ATTACH;FMTTYPE=image/jpeg:https://healthtechcolombia.co/wp-content/uploads/2023/09/ecosistema-de-innovacion-1.jpeg
END:VEVENT
END:VCALENDAR