BEGIN:VCALENDAR
VERSION:2.0
PRODID:-//Healthtech Colombia - ECPv6.15.17.1//NONSGML v1.0//EN
CALSCALE:GREGORIAN
METHOD:PUBLISH
X-WR-CALNAME:Healthtech Colombia
X-ORIGINAL-URL:https://healthtechcolombia.co
X-WR-CALDESC:Eventos para Healthtech Colombia
REFRESH-INTERVAL;VALUE=DURATION:PT1H
X-Robots-Tag:noindex
X-PUBLISHED-TTL:PT1H
BEGIN:VTIMEZONE
TZID:America/Bogota
BEGIN:STANDARD
TZOFFSETFROM:-0500
TZOFFSETTO:-0500
TZNAME:-05
DTSTART:20220101T000000
END:STANDARD
END:VTIMEZONE
BEGIN:VEVENT
DTSTART;TZID=America/Bogota:20230810T110000
DTEND;TZID=America/Bogota:20230810T120000
DTSTAMP:20260421T170140
CREATED:20230810T215428Z
LAST-MODIFIED:20230810T215746Z
UID:2413-1691665200-1691668800@healthtechcolombia.co
SUMMARY:LIVE con Camilo Naranjo\, CEO de Saludtools
DESCRIPTION:
URL:https://healthtechcolombia.co/event/live-con-camilo-naranjo-ceo-de-saludtools/
ATTACH;FMTTYPE=image/png:https://healthtechcolombia.co/wp-content/uploads/2023/08/LIVE-HEALTHTECH-1-1.png
END:VEVENT
END:VCALENDAR